BEGIN:VCALENDAR
VERSION:2.0
PRODID:-//wp-events-plugin.com//7.2.3.1//EN
BEGIN:VEVENT
UID:2@buchenkinder.com
DTSTART:20251220T130000Z
DTEND:20251220T170000Z
DTSTAMP:20251220T075936Z
URL:https://www.buchenkinder.com/events/loedingser-weihnachtsmarkt/
SUMMARY:Lödingser Weihnachtsmarkt
DESCRIPTION:Wir sind am 20. Dezember wieder auf dem Lödingser Weihnachtsma
 rkt mit einer Mitmachaktion für Kinder und freuen uns auf rege Teilnahme.
 \n\n&nbsp\;\n\nKeine Anmeldung nötig
LOCATION:Mehrzweckhalle (MZH) Lödingsen\, Hettenser Str. 3A\, Adelebsen\, 
 37139\, 
X-APPLE-STRUCTURED-LOCATION;VALUE=URI;X-ADDRESS=Hettenser Str. 3A\, Adelebs
 en\, 37139\, ;X-APPLE-RADIUS=100;X-TITLE=Mehrzweckhalle (MZH) Lödingsen:g
 eo:0,0
END:VEVENT
END:VCALENDAR